BEGIN:VCALENDAR
VERSION:2.0
PRODID:-//NVTIM - Nevada Traffic Incident Management - ECPv6.15.18//NONSGML v1.0//EN
CALSCALE:GREGORIAN
METHOD:PUBLISH
X-WR-CALNAME:NVTIM - Nevada Traffic Incident Management
X-ORIGINAL-URL:https://dev.nvtim.com
X-WR-CALDESC:Events for NVTIM - Nevada Traffic Incident Management
REFRESH-INTERVAL;VALUE=DURATION:PT1H
X-Robots-Tag:noindex
X-PUBLISHED-TTL:PT1H
BEGIN:VTIMEZONE
TZID:UTC
BEGIN:STANDARD
TZOFFSETFROM:+0000
TZOFFSETTO:+0000
TZNAME:UTC
DTSTART:20170101T000000
END:STANDARD
END:VTIMEZONE
BEGIN:VEVENT
DTSTART;TZID=UTC:20180727T170000
DTEND;TZID=UTC:20180727T210000
DTSTAMP:20260422T003420
CREATED:20180711T230059Z
LAST-MODIFIED:20180711T230059Z
UID:36790-1532710800-1532725200@dev.nvtim.com
SUMMARY:Citywide Block Party
DESCRIPTION:Las Vegas Metropolitan Police Department Citywide Block Party
URL:https://dev.nvtim.com/event/citywide-block-party/
LOCATION:2531 Vegas Drive\, 2531 Vegas Drive\, Las Vegas\, NV\, 89106\, United States
END:VEVENT
END:VCALENDAR