BEGIN:VCALENDAR
VERSION:2.0
PRODID:-//NVTIM - Nevada Traffic Incident Management - ECPv6.15.18//NONSGML v1.0//EN
CALSCALE:GREGORIAN
METHOD:PUBLISH
X-ORIGINAL-URL:https://dev.nvtim.com
X-WR-CALDESC:Events for NVTIM - Nevada Traffic Incident Management
REFRESH-INTERVAL;VALUE=DURATION:PT1H
X-Robots-Tag:noindex
X-PUBLISHED-TTL:PT1H
BEGIN:VTIMEZONE
TZID:UTC
BEGIN:STANDARD
TZOFFSETFROM:+0000
TZOFFSETTO:+0000
TZNAME:UTC
DTSTART:20190101T000000
END:STANDARD
END:VTIMEZONE
BEGIN:VEVENT
DTSTART;TZID=UTC:20200326T103000
DTEND;TZID=UTC:20200326T123000
DTSTAMP:20260421T184030
CREATED:20200118T000955Z
LAST-MODIFIED:20200303T090241Z
UID:38175-1585218600-1585225800@dev.nvtim.com
SUMMARY:Ely TIM Coalition Meeting
DESCRIPTION:Join us for the TIM Coalition Meeting and luncheon. Click on the website link below to register for this event.
URL:https://dev.nvtim.com/event/ely-tim-coalition-meeting-4/
LOCATION:Great Basin Community College\, 2115 Bobcat Drive\, Ely\, NV\, 89301\, United States
ORGANIZER;CN="Nevada TIM Coalitions":MAILTO:rita.brohman@parsons.com
END:VEVENT
END:VCALENDAR