BEGIN:VCALENDAR
VERSION:2.0
PRODID:-//NVTIM - Nevada Traffic Incident Management - ECPv6.15.18//NONSGML v1.0//EN
CALSCALE:GREGORIAN
METHOD:PUBLISH
X-WR-CALNAME:NVTIM - Nevada Traffic Incident Management
X-ORIGINAL-URL:https://dev.nvtim.com
X-WR-CALDESC:Events for NVTIM - Nevada Traffic Incident Management
REFRESH-INTERVAL;VALUE=DURATION:PT1H
X-Robots-Tag:noindex
X-PUBLISHED-TTL:PT1H
BEGIN:VTIMEZONE
TZID:UTC
BEGIN:STANDARD
TZOFFSETFROM:+0000
TZOFFSETTO:+0000
TZNAME:UTC
DTSTART:20160101T000000
END:STANDARD
END:VTIMEZONE
BEGIN:VEVENT
DTSTART;TZID=UTC:20200923T103000
DTEND;TZID=UTC:20200923T123000
DTSTAMP:20260421T110150
CREATED:20200118T005945Z
LAST-MODIFIED:20200121T013521Z
UID:38193-1600857000-1600864200@dev.nvtim.com
SUMMARY:Elko TIM Coalition Meeting
DESCRIPTION:Join us for the TIM Coalition Meeting and luncheon. Click on the website link below to register for this event.
URL:https://dev.nvtim.com/event/elko-tim-coalition-meeting-5/
LOCATION:NV Highway Patrol Training Room\, 3920 E. Idaho Street\, Elko\, NV\, 89801\, United States
ORGANIZER;CN="Nevada TIM Coalitions":MAILTO:rita.brohman@parsons.com
GEO:40.8639086;-115.7337943
X-APPLE-STRUCTURED-LOCATION;VALUE=URI;X-ADDRESS=NV Highway Patrol Training Room 3920 E. Idaho Street Elko NV 89801 United States;X-APPLE-RADIUS=500;X-TITLE=3920 E. Idaho Street:geo:-115.7337943,40.8639086
END:VEVENT
BEGIN:VEVENT
DTSTART;TZID=UTC:20200603T103000
DTEND;TZID=UTC:20200603T123000
DTSTAMP:20260421T110150
CREATED:20200429T103808Z
LAST-MODIFIED:20200429T103808Z
UID:38295-1591180200-1591187400@dev.nvtim.com
SUMMARY:Elko TIM Coalition Meeting
DESCRIPTION:Join us for the TIM Coalition Meeting and luncheon. Click on the website link below to register for this event.
URL:https://dev.nvtim.com/event/elko-tim-coalition-meeting-6/
LOCATION:NV Highway Patrol Training Room\, 3920 E. Idaho Street\, Elko\, NV\, 89801\, United States
ORGANIZER;CN="Nevada TIM Coalitions":MAILTO:rita.brohman@parsons.com
GEO:40.8639086;-115.7337943
X-APPLE-STRUCTURED-LOCATION;VALUE=URI;X-ADDRESS=NV Highway Patrol Training Room 3920 E. Idaho Street Elko NV 89801 United States;X-APPLE-RADIUS=500;X-TITLE=3920 E. Idaho Street:geo:-115.7337943,40.8639086
END:VEVENT
BEGIN:VEVENT
DTSTART;TZID=UTC:20200325T103000
DTEND;TZID=UTC:20200325T123000
DTSTAMP:20260421T110150
CREATED:20200118T000606Z
LAST-MODIFIED:20200121T013955Z
UID:38173-1585132200-1585139400@dev.nvtim.com
SUMMARY:Elko TIM Coalition Meeting
DESCRIPTION:Join us for the TIM Coalition Meeting and luncheon. Click on the website link below to register for this event.
URL:https://dev.nvtim.com/event/elko-tim-coalition-meeting-4/
LOCATION:NV Highway Patrol Training Room\, 3920 E. Idaho Street\, Elko\, NV\, 89801\, United States
ORGANIZER;CN="Nevada TIM Coalitions":MAILTO:rita.brohman@parsons.com
GEO:40.8639086;-115.7337943
X-APPLE-STRUCTURED-LOCATION;VALUE=URI;X-ADDRESS=NV Highway Patrol Training Room 3920 E. Idaho Street Elko NV 89801 United States;X-APPLE-RADIUS=500;X-TITLE=3920 E. Idaho Street:geo:-115.7337943,40.8639086
END:VEVENT
BEGIN:VEVENT
DTSTART;TZID=UTC:20190925T103000
DTEND;TZID=UTC:20190925T133000
DTSTAMP:20260421T110150
CREATED:20181214T011305Z
LAST-MODIFIED:20190419T003822Z
UID:37814-1569407400-1569418200@dev.nvtim.com
SUMMARY:Elko TIM Coalition Meeting
DESCRIPTION:Join us for the TIM Coalition Meeting and luncheon. Click here to register.
URL:https://dev.nvtim.com/event/elko-tim-coalition-meeting-3/
LOCATION:NV Highway Patrol Training Room\, 3920 E. Idaho Street\, Elko\, NV\, 89801\, United States
ORGANIZER;CN="Nevada TIM Coalitions":MAILTO:rita.brohman@parsons.com
GEO:40.8639086;-115.7337943
X-APPLE-STRUCTURED-LOCATION;VALUE=URI;X-ADDRESS=NV Highway Patrol Training Room 3920 E. Idaho Street Elko NV 89801 United States;X-APPLE-RADIUS=500;X-TITLE=3920 E. Idaho Street:geo:-115.7337943,40.8639086
END:VEVENT
BEGIN:VEVENT
DTSTART;TZID=UTC:20190327T103000
DTEND;TZID=UTC:20190327T123000
DTSTAMP:20260421T110150
CREATED:20181214T004332Z
LAST-MODIFIED:20181214T004332Z
UID:37794-1553682600-1553689800@dev.nvtim.com
SUMMARY:Elko TIM Coalition Meeting
DESCRIPTION:Join us for the TIM Coalition meeting and luncheon. Registration coming soon!
URL:https://dev.nvtim.com/event/elko-tim-coalition-meeting-2/
LOCATION:NV Highway Patrol Training Room\, 3920 E. Idaho Street\, Elko\, NV\, 89801\, United States
ORGANIZER;CN="Nevada TIM Coalitions":MAILTO:rita.brohman@parsons.com
GEO:40.8639086;-115.7337943
X-APPLE-STRUCTURED-LOCATION;VALUE=URI;X-ADDRESS=NV Highway Patrol Training Room 3920 E. Idaho Street Elko NV 89801 United States;X-APPLE-RADIUS=500;X-TITLE=3920 E. Idaho Street:geo:-115.7337943,40.8639086
END:VEVENT
BEGIN:VEVENT
DTSTART;TZID=UTC:20180926T090000
DTEND;TZID=UTC:20180926T110000
DTSTAMP:20260421T110150
CREATED:20180118T040451Z
LAST-MODIFIED:20180907T031539Z
UID:36285-1537952400-1537959600@dev.nvtim.com
SUMMARY:Elko TIM Coalition Meeting and Luncheon
DESCRIPTION:Join us for the bimonthly TIM luncheon and training meeting. \nThe meeting will feature a presentation on 511\, agency updates\, a crash debriefing\, and a demonstration of movable rumble strips. \nThe Steering Committee Meeting will follow. \nPlease click here to register so we have enough refreshments for everyone.
URL:https://dev.nvtim.com/event/elko-tim-coalition-meeting-and-luncheon-2/
LOCATION:NV Highway Patrol Training Room\, 3920 E. Idaho Street\, Elko\, NV\, 89801\, United States
ORGANIZER;CN="Nevada TIM Coalitions":MAILTO:rita.brohman@parsons.com
GEO:40.8639086;-115.7337943
X-APPLE-STRUCTURED-LOCATION;VALUE=URI;X-ADDRESS=NV Highway Patrol Training Room 3920 E. Idaho Street Elko NV 89801 United States;X-APPLE-RADIUS=500;X-TITLE=3920 E. Idaho Street:geo:-115.7337943,40.8639086
END:VEVENT
BEGIN:VEVENT
DTSTART;TZID=UTC:20180410T080000
DTEND;TZID=UTC:20180410T120000
DTSTAMP:20260421T110150
CREATED:20180315T001511Z
LAST-MODIFIED:20180315T002403Z
UID:36466-1523347200-1523361600@dev.nvtim.com
SUMMARY:Nevada 4 Hour TIM Training - Elko - Morning
DESCRIPTION:The Nevada TIM Training is built on the National TIM Responder Training Program\, developed by responders for responders.  It was designed to establish the foundation for and promote consistent training of all responders to achieve the three objectives of the TIM National Unified Goal (NUG): \n\nResponder Safety\nSafe\, Quick Clearance\nPrompt\, Reliable\, Interoperable Communications\n\nThe 4-Hour TIM course is intended to provide participating first responders the knowledge and materials necessary for clearing critical incidents as quickly as possible and reducing secondary crashes. Scene safety\, communication\, and relationship building will be emphasized in a multi-agency training approach with highly qualified instructors from multiple law enforcement agencies\, fire agencies\, NDOT\, towing\, and private sector emergency responders. The course structure will consist of 4 hours of training with credit for engineering and Post Law. \nPlease click here to register for this training.
URL:https://dev.nvtim.com/event/nevada-4-hour-tim-training-elko-morning/
LOCATION:NV Highway Patrol Training Room\, 3920 E. Idaho Street\, Elko\, NV\, 89801\, United States
ORGANIZER;CN="Nevada TIM Coalitions":MAILTO:rita.brohman@parsons.com
GEO:40.8639086;-115.7337943
X-APPLE-STRUCTURED-LOCATION;VALUE=URI;X-ADDRESS=NV Highway Patrol Training Room 3920 E. Idaho Street Elko NV 89801 United States;X-APPLE-RADIUS=500;X-TITLE=3920 E. Idaho Street:geo:-115.7337943,40.8639086
END:VEVENT
BEGIN:VEVENT
DTSTART;TZID=UTC:20180328T090000
DTEND;TZID=UTC:20180328T110000
DTSTAMP:20260421T110150
CREATED:20180118T034148Z
LAST-MODIFIED:20180315T000444Z
UID:36263-1522227600-1522234800@dev.nvtim.com
SUMMARY:Elko TIM Coalition Meeting and Luncheon
DESCRIPTION:Join us for the next Elko TIM luncheon and meeting.  Lunch will be provided.\n\nPlease click here to register for this event.
URL:https://dev.nvtim.com/event/elko-tim-coalition-meeting-and-luncheon/
LOCATION:NV Highway Patrol Training Room\, 3920 E. Idaho Street\, Elko\, NV\, 89801\, United States
ORGANIZER;CN="Nevada TIM Coalitions":MAILTO:rita.brohman@parsons.com
GEO:40.8639086;-115.7337943
X-APPLE-STRUCTURED-LOCATION;VALUE=URI;X-ADDRESS=NV Highway Patrol Training Room 3920 E. Idaho Street Elko NV 89801 United States;X-APPLE-RADIUS=500;X-TITLE=3920 E. Idaho Street:geo:-115.7337943,40.8639086
END:VEVENT
BEGIN:VEVENT
DTSTART;TZID=UTC:20170927T090000
DTEND;TZID=UTC:20170927T110000
DTSTAMP:20260421T110150
CREATED:20170803T010512Z
LAST-MODIFIED:20170907T013240Z
UID:30020-1506502800-1506510000@dev.nvtim.com
SUMMARY:Elko TIM Coalition Meeting
DESCRIPTION:The next Elko TIM Coalition meeting and luncheon is September 26. \nThe focus of this meeting includes developing area-specific TIM Plans. Lunch will be provided. \nThe steering committee meeting will follow immediately after at 11:00 – 12:00. \nClick here to register for this event. \nPlease contact Pat Gallagher at pat.gallagher@parsons.com or rita.brohman@parsons.com if you have any questions.
URL:https://dev.nvtim.com/event/elko-tim-coalition-meeting/
LOCATION:NV Highway Patrol Training Room\, 3920 E. Idaho Street\, Elko\, NV\, 89801\, United States
ORGANIZER;CN="Nevada TIM Coalitions":MAILTO:rita.brohman@parsons.com
GEO:40.8639086;-115.7337943
X-APPLE-STRUCTURED-LOCATION;VALUE=URI;X-ADDRESS=NV Highway Patrol Training Room 3920 E. Idaho Street Elko NV 89801 United States;X-APPLE-RADIUS=500;X-TITLE=3920 E. Idaho Street:geo:-115.7337943,40.8639086
END:VEVENT
BEGIN:VEVENT
DTSTART;TZID=UTC:20170920T130000
DTEND;TZID=UTC:20170920T170000
DTSTAMP:20260421T110151
CREATED:20170722T001135Z
LAST-MODIFIED:20170722T005301Z
UID:29986-1505912400-1505926800@dev.nvtim.com
SUMMARY:4 Hour TIM Training - Elko
DESCRIPTION:The Nevada TIM Training is built on the National TIM Responder Training Program\, developed by responders for responders. It was designed to establish the foundation for and promote consistent training of all responders to achieve the three objectives of the TIM National Unified Goal (NUG):\n• Responder Safety\n• Safe\, Quick Clearance\n• Prompt\, Reliable\, Interoperable Communications \nThe 4-Hour TIM course is intended to provide participating first responders the knowledge and materials necessary for clearing critical incidents as quickly as possible and reducing secondary crashes. Scene safety\, communication\, and relationship building will be emphasized in a multi-agency training approach with highly qualified instructors from multiple law enforcement agencies\, fire agencies\, NDOT\, towing\, and private sector emergency responders. The course structure will consist of 4 hours of training with credit for engineering and Post Law. \nThis training is being provided free of charge\, however\, agencies are responsible for all travel related expenses. \nCLICK HERE TO REGISTER \nClick here to view the event flyer.
URL:https://dev.nvtim.com/event/4-hour-rural-tim-training/
LOCATION:NV Highway Patrol Training Room\, 3920 E. Idaho Street\, Elko\, NV\, 89801\, United States
ORGANIZER;CN="Nevada TIM Coalitions":MAILTO:rita.brohman@parsons.com
GEO:40.8639086;-115.7337943
X-APPLE-STRUCTURED-LOCATION;VALUE=URI;X-ADDRESS=NV Highway Patrol Training Room 3920 E. Idaho Street Elko NV 89801 United States;X-APPLE-RADIUS=500;X-TITLE=3920 E. Idaho Street:geo:-115.7337943,40.8639086
END:VEVENT
BEGIN:VEVENT
DTSTART;TZID=UTC:20170919T080000
DTEND;TZID=UTC:20170920T120000
DTSTAMP:20260421T110151
CREATED:20170722T004651Z
LAST-MODIFIED:20170722T004718Z
UID:29995-1505808000-1505908800@dev.nvtim.com
SUMMARY:TIM Train-the-Trainer Course - Elko
DESCRIPTION:The Nevada Train-the-Trainer (TtT) course is intended to provide participants (i.e.\, trainers) the knowledge and materials necessary to conduct TIM training for TIM responders. The TtT is a 1½-day course that covers 8 hours of material\, including classroom training as well as multiagency\, multidiscipline hands-on outdoor activities and 4 hours of peer training. Trainers will have the flexibility to train others in the afternoon of the second day through use of the condensed 4-hour version of the training. \nThe target audience for this course is experienced trainers from all TIM disciplines\, including: Law Enforcement\, Fire/Rescue\, Emergency Medical Service\, Towing and Recovery\, Emergency Management\, Communications\, and Highway/Transportation. Each TtT participant is expected to have both prior instructional and TIM experience. \nTues. September 19th – Day 1:   0800 to 1700 (8 hours) \nWeds. September 20th – Day 2:   0800 – 1200 (4 hours) Peer training followed by a real time 4- hour training \nRegistration – There are two separate steps for registering and both MUST be completed for State employees: \n\nRegister with FHWA at Registration is located at: https://fhwatimtraining.wufoo.com/forms/national-tim-ttt-registration-elko-nv/[fhwatimtraining.wufoo.com]\nState employees can register for the class in NEATS. Non-state agencies please contact Jim Stewart\, NHP jstewart@dps.state.nv.us\, 775.753.1253\, or Gary Sallee at gsallee@dot.state.nv.us\n\nThis training is being provided free of charge\, however\, agencies are responsible for all travel related expenses including lodging and meals. Hosted By:  THE NEVADA TIM COALITION\, NHP\, and NDOT \nClick here to view the event flyer.
URL:https://dev.nvtim.com/event/tim-train-the-trainer-course-elko/
LOCATION:NV Highway Patrol Training Room\, 3920 E. Idaho Street\, Elko\, NV\, 89801\, United States
GEO:40.8639086;-115.7337943
X-APPLE-STRUCTURED-LOCATION;VALUE=URI;X-ADDRESS=NV Highway Patrol Training Room 3920 E. Idaho Street Elko NV 89801 United States;X-APPLE-RADIUS=500;X-TITLE=3920 E. Idaho Street:geo:-115.7337943,40.8639086
END:VEVENT
END:VCALENDAR