BEGIN:VCALENDAR
VERSION:2.0
PRODID:-//NVTIM - Nevada Traffic Incident Management - ECPv6.15.18//NONSGML v1.0//EN
CALSCALE:GREGORIAN
METHOD:PUBLISH
X-ORIGINAL-URL:https://dev.nvtim.com
X-WR-CALDESC:Events for NVTIM - Nevada Traffic Incident Management
REFRESH-INTERVAL;VALUE=DURATION:PT1H
X-Robots-Tag:noindex
X-PUBLISHED-TTL:PT1H
BEGIN:VTIMEZONE
TZID:UTC
BEGIN:STANDARD
TZOFFSETFROM:+0000
TZOFFSETTO:+0000
TZNAME:UTC
DTSTART:20190101T000000
END:STANDARD
END:VTIMEZONE
BEGIN:VEVENT
DTSTART;TZID=UTC:20210126T093000
DTEND;TZID=UTC:20210126T120000
DTSTAMP:20260422T085209
CREATED:20201208T022250Z
LAST-MODIFIED:20201208T023929Z
UID:38532-1611653400-1611662400@dev.nvtim.com
SUMMARY:TIM Planning Meeting for 2021 - NNV
DESCRIPTION:Please join us for the TIM Planning meeting via MS Teams.  \nTo register for the event\, please click below. \nhttps://dev.nvtim.com/event-registration-form/ [nvtim.com] \n  \nJoin on your computer or mobile app  \nClick here to join the meeting  \nOr call in (audio only) \n+1 951-465-7634\,\,801095847#   United States\, Riverside
URL:https://dev.nvtim.com/event/tim-planning-meeting-for-2021-nnv/
LOCATION:United States
END:VEVENT
BEGIN:VEVENT
DTSTART;TZID=UTC:20201029T113000
DTEND;TZID=UTC:20201029T133000
DTSTAMP:20260422T085209
CREATED:20201027T024626Z
LAST-MODIFIED:20201027T024626Z
UID:38486-1603971000-1603978200@dev.nvtim.com
SUMMARY:TIM Coalition Meeting - Southern Nevada
DESCRIPTION:Please join us for the TIM Coalition meeting via MS Teams. \nTo register for the event\, please click below. \nhttps://dev.nvtim.com/event-registration-form/ [nvtim.com] \n  \nTo join the meeting\, click below. \nJoin Microsoft Teams Meeting
URL:https://dev.nvtim.com/event/tim-coalition-meeting-southern-nevada/
LOCATION:United States
END:VEVENT
BEGIN:VEVENT
DTSTART;TZID=UTC:20201027T113000
DTEND;TZID=UTC:20201027T133000
DTSTAMP:20260422T085209
CREATED:20201027T025111Z
LAST-MODIFIED:20201027T025142Z
UID:38488-1603798200-1603805400@dev.nvtim.com
SUMMARY:TIM Coalition Meeting - Northern Nevada
DESCRIPTION:Please join us for the TIM Coalition meeting via MS Teams. \nTo register for the event\, please click below. \nhttps://dev.nvtim.com/event-registration-form/ [nvtim.com] \n  \nTo join the meeting\, click below. \nJoin Microsoft Teams Meeting
URL:https://dev.nvtim.com/event/tim-coalition-meeting-northern-nevada/
LOCATION:United States
END:VEVENT
BEGIN:VEVENT
DTSTART;TZID=UTC:20200812T083000
DTEND;TZID=UTC:20200812T123000
DTSTAMP:20260422T085209
CREATED:20200429T113714Z
LAST-MODIFIED:20200429T124303Z
UID:38309-1597221000-1597235400@dev.nvtim.com
SUMMARY:TIM Coalition 4-Hour Training in Las Vegas
DESCRIPTION:Join us for the TIM Coalition 4-hour Training. Click on the website link below to register for this event.
URL:https://dev.nvtim.com/event/tim-coalition-4-hour-training-in-las-vegas-2/
LOCATION:United States
ORGANIZER;CN="Nevada TIM Coalitions":MAILTO:rita.brohman@parsons.com
END:VEVENT
BEGIN:VEVENT
DTSTART;TZID=UTC:20200604T093000
DTEND;TZID=UTC:20200604T233000
DTSTAMP:20260422T085209
CREATED:20200429T104659Z
LAST-MODIFIED:20200430T051005Z
UID:38297-1591263000-1591313400@dev.nvtim.com
SUMMARY:Ely TIM Coalition Meeting
DESCRIPTION:Join us for the TIM Coalition Meeting and luncheon. Click on the website link below to register for this event.
URL:https://dev.nvtim.com/event/ely-tim-coalition-meeting-6/
LOCATION:United States
ORGANIZER;CN="Nevada TIM Coalitions":MAILTO:rita.brohman@parsons.com
END:VEVENT
END:VCALENDAR