BEGIN:VCALENDAR
VERSION:2.0
PRODID:-//NVTIM - Nevada Traffic Incident Management - ECPv6.15.18//NONSGML v1.0//EN
CALSCALE:GREGORIAN
METHOD:PUBLISH
X-ORIGINAL-URL:https://dev.nvtim.com
X-WR-CALDESC:Events for NVTIM - Nevada Traffic Incident Management
REFRESH-INTERVAL;VALUE=DURATION:PT1H
X-Robots-Tag:noindex
X-PUBLISHED-TTL:PT1H
BEGIN:VTIMEZONE
TZID:UTC
BEGIN:STANDARD
TZOFFSETFROM:+0000
TZOFFSETTO:+0000
TZNAME:UTC
DTSTART:20160101T000000
END:STANDARD
END:VTIMEZONE
BEGIN:VEVENT
DTSTART;TZID=UTC:20190326T103000
DTEND;TZID=UTC:20190326T123000
DTSTAMP:20260421T135933
CREATED:20181214T004037Z
LAST-MODIFIED:20181214T004053Z
UID:37792-1553596200-1553603400@dev.nvtim.com
SUMMARY:Winnemucca TIM Coalition Meeting
DESCRIPTION:Join us for the TIM Coalition Meeting and Luncheon. Registration coming soon!
URL:https://dev.nvtim.com/event/winnemucca-tim-coalition-meeting-2/
LOCATION:Winnemucca Fire Department\, 1078 E. Winnemucca Blvd\, Winnemucca\, 89445\, United States
ORGANIZER;CN="Nevada TIM Coalitions":MAILTO:rita.brohman@parsons.com
GEO:40.9746784;-117.7223209
X-APPLE-STRUCTURED-LOCATION;VALUE=URI;X-ADDRESS=Winnemucca Fire Department 1078 E. Winnemucca Blvd Winnemucca 89445 United States;X-APPLE-RADIUS=500;X-TITLE=1078 E. Winnemucca Blvd:geo:-117.7223209,40.9746784
END:VEVENT
BEGIN:VEVENT
DTSTART;TZID=UTC:20180925T103000
DTEND;TZID=UTC:20180925T123000
DTSTAMP:20260421T135933
CREATED:20180118T040237Z
LAST-MODIFIED:20180907T031619Z
UID:36283-1537871400-1537878600@dev.nvtim.com
SUMMARY:Winnemucca TIM Coalition Meeting and Luncheon
DESCRIPTION:Join us for the bimonthly TIM luncheon meeting. \nThe meeting will feature a presentation on 511\, agency updates\, crash debriefing\, and a demonstration of movable rumble strips. \nThe Steering Committee meeting will follow. \nPlease click here to register for the meeting so we have enough refreshments for everyone. \n 
URL:https://dev.nvtim.com/event/winnemucca-tim-coalition-meeting-and-luncheon-2/
LOCATION:Winnemucca Fire Department\, 1078 E. Winnemucca Blvd\, Winnemucca\, 89445\, United States
ORGANIZER;CN="Nevada TIM Coalitions":MAILTO:rita.brohman@parsons.com
GEO:40.9746784;-117.7223209
X-APPLE-STRUCTURED-LOCATION;VALUE=URI;X-ADDRESS=Winnemucca Fire Department 1078 E. Winnemucca Blvd Winnemucca 89445 United States;X-APPLE-RADIUS=500;X-TITLE=1078 E. Winnemucca Blvd:geo:-117.7223209,40.9746784
END:VEVENT
BEGIN:VEVENT
DTSTART;TZID=UTC:20180327T103000
DTEND;TZID=UTC:20180327T123000
DTSTAMP:20260421T135933
CREATED:20180118T033827Z
LAST-MODIFIED:20180315T000116Z
UID:36261-1522146600-1522153800@dev.nvtim.com
SUMMARY:Winnemucca TIM Coalition Meeting and Luncheon
DESCRIPTION:Join us for the next Winnemucca TIM Coalition Meeting and Luncheon. Lunch will be provided. \nPlease click here to register for this meeting.
URL:https://dev.nvtim.com/event/winnemucca-tim-coalition-meeting-and-luncheon/
LOCATION:Winnemucca Fire Department\, 1078 E. Winnemucca Blvd\, Winnemucca\, 89445\, United States
ORGANIZER;CN="Nevada TIM Coalitions":MAILTO:rita.brohman@parsons.com
GEO:40.9746784;-117.7223209
X-APPLE-STRUCTURED-LOCATION;VALUE=URI;X-ADDRESS=Winnemucca Fire Department 1078 E. Winnemucca Blvd Winnemucca 89445 United States;X-APPLE-RADIUS=500;X-TITLE=1078 E. Winnemucca Blvd:geo:-117.7223209,40.9746784
END:VEVENT
BEGIN:VEVENT
DTSTART;TZID=UTC:20180314T130000
DTEND;TZID=UTC:20180314T170000
DTSTAMP:20260421T135933
CREATED:20180215T111249Z
LAST-MODIFIED:20180215T113225Z
UID:36391-1521032400-1521046800@dev.nvtim.com
SUMMARY:Nevada 4 Hour TIM Training - Winnemucca - Afternoon
DESCRIPTION:The Nevada TIM Training is built on the National TIM Responder Training Program\, developed by responders for responders.  It was designed to establish the foundation for and promote consistent training of all responders to achieve the three objectives of the TIM National Unified Goal (NUG): \n\nResponder Safety\nSafe\, Quick Clearance\nPrompt\, Reliable\, Interoperable Communications\n\nThe 4-Hour TIM course is intended to provide participating first responders the knowledge and materials necessary for clearing critical incidents as quickly as possible and reducing secondary crashes. Scene safety\, communication\, and relationship building will be emphasized in a multi-agency training approach with highly qualified instructors from multiple law enforcement agencies\, fire agencies\, NDOT\, towing\, and private sector emergency responders. The course structure will consist of 4 hours of training with credit for engineering and Post Law. \n\nPlease click here to register for this training.
URL:https://dev.nvtim.com/event/nevada-tim-training-4-hour-winnemucca-march-14-afternoon/
LOCATION:Winnemucca Fire Department\, 1078 E. Winnemucca Blvd\, Winnemucca\, 89445\, United States
ORGANIZER;CN="Nevada TIM Coalitions":MAILTO:rita.brohman@parsons.com
GEO:40.9746784;-117.7223209
X-APPLE-STRUCTURED-LOCATION;VALUE=URI;X-ADDRESS=Winnemucca Fire Department 1078 E. Winnemucca Blvd Winnemucca 89445 United States;X-APPLE-RADIUS=500;X-TITLE=1078 E. Winnemucca Blvd:geo:-117.7223209,40.9746784
END:VEVENT
BEGIN:VEVENT
DTSTART;TZID=UTC:20180314T080000
DTEND;TZID=UTC:20180314T120000
DTSTAMP:20260421T135933
CREATED:20180215T110938Z
LAST-MODIFIED:20180215T112656Z
UID:36389-1521014400-1521028800@dev.nvtim.com
SUMMARY:Nevada 4 Hour TIM Training - Winnemucca - Morning
DESCRIPTION:The Nevada TIM Training is built on the National TIM Responder Training Program\, developed by responders for responders.  It was designed to establish the foundation for and promote consistent training of all responders to achieve the three objectives of the TIM National Unified Goal (NUG): \n\nResponder Safety\nSafe\, Quick Clearance\nPrompt\, Reliable\, Interoperable Communications\n\nThe 4-Hour TIM course is intended to provide participating first responders the knowledge and materials necessary for clearing critical incidents as quickly as possible and reducing secondary crashes. Scene safety\, communication\, and relationship building will be emphasized in a multi-agency training approach with highly qualified instructors from multiple law enforcement agencies\, fire agencies\, NDOT\, towing\, and private sector emergency responders. The course structure will consist of 4 hours of training with credit for engineering and Post Law. \n\nPlease click here to register for this training.
URL:https://dev.nvtim.com/event/nevada-tim-training-4-hour-winnemucca-march-14-morning/
LOCATION:Winnemucca Fire Department\, 1078 E. Winnemucca Blvd\, Winnemucca\, 89445\, United States
GEO:40.9746784;-117.7223209
X-APPLE-STRUCTURED-LOCATION;VALUE=URI;X-ADDRESS=Winnemucca Fire Department 1078 E. Winnemucca Blvd Winnemucca 89445 United States;X-APPLE-RADIUS=500;X-TITLE=1078 E. Winnemucca Blvd:geo:-117.7223209,40.9746784
END:VEVENT
BEGIN:VEVENT
DTSTART;TZID=UTC:20170926T103000
DTEND;TZID=UTC:20170926T123000
DTSTAMP:20260421T135933
CREATED:20170803T010159Z
LAST-MODIFIED:20170907T013404Z
UID:30017-1506421800-1506429000@dev.nvtim.com
SUMMARY:Winnemucca TIM Coalition Meeting
DESCRIPTION:The next Winnemucca TIM Coalition meeting and luncheon is September 26. \nThe focus of this meeting includes developing area-specific TIM Plans. Lunch will be provided. \nThe steering committee meeting will follow immediately after at 12:30-1:30. \nClick here to register for this event. \nPlease contact Pat Gallagher at pat.gallagher@parsons.com or rita.brohman@parsons.com if you have any questions.
URL:https://dev.nvtim.com/event/winnemucca-tim-coalition-meeting/
LOCATION:Winnemucca Fire Department\, 1078 E. Winnemucca Blvd\, Winnemucca\, 89445\, United States
ORGANIZER;CN="Nevada TIM Coalitions":MAILTO:rita.brohman@parsons.com
GEO:40.9746784;-117.7223209
X-APPLE-STRUCTURED-LOCATION;VALUE=URI;X-ADDRESS=Winnemucca Fire Department 1078 E. Winnemucca Blvd Winnemucca 89445 United States;X-APPLE-RADIUS=500;X-TITLE=1078 E. Winnemucca Blvd:geo:-117.7223209,40.9746784
END:VEVENT
END:VCALENDAR